BEGIN:VCALENDAR
VERSION:2.0
PRODID:-//SVP Bezirk Bremgarten //NONSGML Events //EN
CALSCALE:GREGORIAN
X-WR-CALNAME:SVP Bezirk Bremgarten
BEGIN:VEVENT
CREATED:20190319T054703Z
UID:787
DTEND:20200821T000000
DTSTART:20200821T000000
DTSTAMP:20260422T122757Z
LOCATION:
DESCRIPTION:
SUMMARY:100 Jahre SVP Aargau abgesagt
ORGANIZER:
URL;VALUE=URI:https://www.svp-bezirkbremgarten.ch/termine/100-jahre-svp-aargau-2/
TRANSP:OPAQUE
END:VEVENT
END:VCALENDAR
