BEGIN:VCALENDAR
VERSION:2.0
PRODID:-//SVP Bezirk Bremgarten //NONSGML Events //EN
CALSCALE:GREGORIAN
X-WR-CALNAME:SVP Bezirk Bremgarten
BEGIN:VEVENT
CREATED:20240605T035214Z
UID:2207
DTEND:20240617T200000
DTSTART:20240617T193000
DTSTAMP:20260419T125140Z
LOCATION:
DESCRIPTION:Treffen Sie unsere Nationalräte und informieren Sie sich über die ne
SUMMARY:Politapéro/Sessionsrückblick
ORGANIZER:
URL;VALUE=URI:https://www.svp-bezirkbremgarten.ch/termine/politapero-sessionsrueckblick-4/
TRANSP:OPAQUE
END:VEVENT
END:VCALENDAR
