BEGIN:VCALENDAR
VERSION:2.0
PRODID:-//SVP Bezirk Bremgarten //NONSGML Events //EN
CALSCALE:GREGORIAN
X-WR-CALNAME:SVP Bezirk Bremgarten
BEGIN:VEVENT
CREATED:20230918T041457Z
UID:2064
DTEND:20231214T200000
DTSTART:20231214T190000
DTSTAMP:20260420T140444Z
LOCATION:
DESCRIPTION:
SUMMARY:Kantonalvorstand
ORGANIZER:
URL;VALUE=URI:https://www.svp-bezirkbremgarten.ch/termine/kantonalvorstand/
TRANSP:OPAQUE
END:VEVENT
END:VCALENDAR
