BEGIN:VCALENDAR
VERSION:2.0
PRODID:-//SVP Bezirk Bremgarten //NONSGML Events //EN
CALSCALE:GREGORIAN
X-WR-CALNAME:SVP Bezirk Bremgarten
BEGIN:VEVENT
CREATED:20221201T092219Z
UID:1789
DTEND:20231014T000000
DTSTART:20231014T000000
DTSTAMP:20260420T041701Z
LOCATION:
DESCRIPTION:SVP Oberkulm
SUMMARY:Käseschnitten und Raclette-Essen
ORGANIZER:
URL;VALUE=URI:https://www.svp-bezirkbremgarten.ch/termine/kaeseschnitten-und-raclette-essen/
TRANSP:OPAQUE
END:VEVENT
END:VCALENDAR
